BEGIN:VCALENDAR
VERSION:2.0
PRODID:-//wp-events-plugin.com//7.2.3.1//EN
BEGIN:VEVENT
UID:23@palomastitch.com
DTSTART:20260423T130000Z
DTEND:20260423T150000Z
DTSTAMP:20260326T213548Z
URL:https://palomastitch.com/events/paloma-stitch-club-drop-in-follow-up-c
 lass-london-w4/
SUMMARY:Paloma Stitch Club - Drop In Follow Up Class\, London W4
DESCRIPTION:\n\nThe Paloma Stitch Club sessions are the perfect next step t
 o the Embroidery Introduction classes.\n\nThey are designed for you to con
 tinue practising the stitches you started learning on your 'Paloma Stitch 
 Sampler' in the introduction class and also to introduce you to new stitch
 es. Depending on your own pace\, you will also be able to start stitching 
 onto the Paloma Stitch botanical design or your personal design. No rush a
 nd no pressure!\n\nI have linen napkins and pillowcases available to buy a
 t each session. You can also bring your own pieces to work on.\n\nThese cl
 asses are ongoing and you can attend as many and whenever you like.\n\nRem
 ember to bring your kits!\n\nFood &amp\; Drink: I will prepare a treat to 
 enjoy during our tea break. Various teas &amp\; coffee also provided.\n
ATTACH;FMTTYPE=image/jpeg:https://palomastitch.com/wp-content/uploads/2026
 /01/Paloma-Stitch-Club.jpeg
LOCATION:Paloma Stitch\, 6 Chiswick Mall\, London\, London\, W4 2QH\, Londo
 n\, United Kingdom
X-APPLE-STRUCTURED-LOCATION;VALUE=URI;X-ADDRESS=6 Chiswick Mall\, London\, 
 London\, W4 2QH\, London\, United Kingdom;X-APPLE-RADIUS=100;X-TITLE=Palom
 a Stitch:geo:0,0
END:VEVENT
END:VCALENDAR